BEGIN:VCALENDAR
PRODID:-//eluceo/ical//2.0/EN
VERSION:2.0
CALSCALE:GREGORIAN
BEGIN:VEVENT
UID:event-678
DTSTAMP:20260421T153005Z
SUMMARY:Veteranendag
DESCRIPTION:Regimentsborrel in de grote tent. Locatie en tijdstip volgt
DTSTART:20240628T220000Z
DTEND:20240629T165227Z
LOCATION:Den Haag
END:VEVENT
BEGIN:VTIMEZONE
TZID:UTC
BEGIN:STANDARD
DTSTART:20240628T220000
TZNAME:UTC
TZOFFSETTO:+0000
TZOFFSETFROM:+0000
END:STANDARD
END:VTIMEZONE
END:VCALENDAR
