BEGIN:VCALENDAR
PRODID:-//eluceo/ical//2.0/EN
VERSION:2.0
CALSCALE:GREGORIAN
BEGIN:VEVENT
UID:event-688
DTSTAMP:20260420T181321Z
SUMMARY:Brigade Borrel Apeldoorn
DESCRIPTION:
DTSTART:20241016T140000Z
DTEND:20241016T190000Z
LOCATION:Apeldoorn
END:VEVENT
BEGIN:VTIMEZONE
TZID:UTC
BEGIN:STANDARD
DTSTART:20241016T140000
TZNAME:UTC
TZOFFSETTO:+0000
TZOFFSETFROM:+0000
END:STANDARD
END:VTIMEZONE
END:VCALENDAR
