BEGIN:VCALENDAR
PRODID:-//eluceo/ical//2.0/EN
VERSION:2.0
CALSCALE:GREGORIAN
BEGIN:VEVENT
UID:event-869
DTSTAMP:20260421T085036Z
SUMMARY:Jubileumconcert in Orpheus Apeldoorn
DESCRIPTION:Programma:     1915 ontvangst -      2000 aanvang conce
 rt   Tenuewens: Militairen AT / GLT Overig\; Gala / Party chic / Veterane
 n Tenue Locatie: Theater &amp\; Concert Orpheus Churchillplein 1 7314 BZ A
 peldoorn Voor eventuele vragen\, mail naar: Otclog.relatieconcertBenT@mind
 ef.nl Er zijn nog plekken voor jubileumconcert\, middels onderstaande link
  kunt u zich nog aanmelden. Aanmelden:https://tickets.orpheus.nl/nl/specia
 loffer/ulogogc2hebtm
DTSTART:20251105T180000Z
DTEND:20251105T210000Z
END:VEVENT
BEGIN:VTIMEZONE
TZID:UTC
BEGIN:STANDARD
DTSTART:20251105T180000
TZNAME:UTC
TZOFFSETTO:+0000
TZOFFSETFROM:+0000
END:STANDARD
END:VTIMEZONE
END:VCALENDAR
