BEGIN:VCALENDAR
PRODID:-//eluceo/ical//2.0/EN
VERSION:2.0
CALSCALE:GREGORIAN
BEGIN:VEVENT
UID:event-920
DTSTAMP:20260421T095623Z
SUMMARY:Inschrijven Battlefieldtour "de Somme" 2025
DESCRIPTION:
DTSTART:20251031T080000Z
DTEND:20251102T160000Z
LOCATION:Albert\, Frankrijk
END:VEVENT
BEGIN:VTIMEZONE
TZID:UTC
BEGIN:STANDARD
DTSTART:20251031T080000
TZNAME:UTC
TZOFFSETTO:+0000
TZOFFSETFROM:+0000
END:STANDARD
END:VTIMEZONE
END:VCALENDAR
